BEGIN:VCALENDAR
VERSION:2.0
PRODID:-//Salaam Community Wellness Center - ECPv6.3.3.1//NONSGML v1.0//EN
CALSCALE:GREGORIAN
METHOD:PUBLISH
X-ORIGINAL-URL:https://salaamcwc.org
X-WR-CALDESC:Events for Salaam Community Wellness Center
REFRESH-INTERVAL;VALUE=DURATION:PT1H
X-Robots-Tag:noindex
X-PUBLISHED-TTL:PT1H
BEGIN:VTIMEZONE
TZID:America/Chicago
BEGIN:DAYLIGHT
TZOFFSETFROM:-0600
TZOFFSETTO:-0500
TZNAME:CDT
DTSTART:20240310T080000
END:DAYLIGHT
BEGIN:STANDARD
TZOFFSETFROM:-0500
TZOFFSETTO:-0600
TZNAME:CST
DTSTART:20241103T070000
END:STANDARD
END:VTIMEZONE
BEGIN:VEVENT
DTSTART;TZID=America/Chicago:20240322T180000
DTEND;TZID=America/Chicago:20240322T210000
DTSTAMP:20260424T042214
CREATED:20240229T185042Z
LAST-MODIFIED:20240301T175810Z
UID:4064-1711130400-1711141200@salaamcwc.org
SUMMARY:2024 Community lftar Fundraiser
DESCRIPTION:RSVP
URL:https://salaamcwc.org/event/2024-community-lftar-fundraiser/
CATEGORIES:Fundraiser
ATTACH;FMTTYPE=image/jpeg:https://salaamcwc.org/wp-content/uploads/2024/02/Iftar-Flyer-scaled.jpg
ORGANIZER;CN="Salaam Community Wellness Center":MAILTO:info@salaamcwc.org
END:VEVENT
BEGIN:VEVENT
DTSTART;TZID=America/Chicago:20240601T120000
DTEND;TZID=America/Chicago:20240601T180000
DTSTAMP:20260424T042214
CREATED:20240521T181007Z
LAST-MODIFIED:20240521T182925Z
UID:4077-1717243200-1717264800@salaamcwc.org
SUMMARY:Building Wealth And Wellness Festival
DESCRIPTION:
URL:https://salaamcwc.org/event/building-wealth-and-wellness-festival/
CATEGORIES:Community Event
ATTACH;FMTTYPE=image/png:https://salaamcwc.org/wp-content/uploads/2024/05/Building-Wealth-and-Wellness-festival-march.png
END:VEVENT
BEGIN:VEVENT
DTSTART;TZID=America/Chicago:20240608T120000
DTEND;TZID=America/Chicago:20240608T160000
DTSTAMP:20260424T042214
CREATED:20240521T183559Z
LAST-MODIFIED:20240521T183559Z
UID:4086-1717848000-1717862400@salaamcwc.org
SUMMARY:Patient-Centered Learning
DESCRIPTION:
URL:https://salaamcwc.org/event/patient-centered-learning/
CATEGORIES:Community Event
ATTACH;FMTTYPE=image/png:https://salaamcwc.org/wp-content/uploads/2024/05/June-8th-.png
END:VEVENT
BEGIN:VEVENT
DTSTART;TZID=America/Chicago:20240620T100000
DTEND;TZID=America/Chicago:20240620T160000
DTSTAMP:20260424T042214
CREATED:20240521T184039Z
LAST-MODIFIED:20240521T184039Z
UID:4089-1718877600-1718899200@salaamcwc.org
SUMMARY:"Peace of Mind" Health and Wellness Pop-up
DESCRIPTION:
URL:https://salaamcwc.org/event/peace-of-mind-health-and-wellness-pop-up/
CATEGORIES:Community Event
ATTACH;FMTTYPE=image/jpeg:https://salaamcwc.org/wp-content/uploads/2024/05/PeaceOfMind_2-scaled.jpg
END:VEVENT
BEGIN:VEVENT
DTSTART;VALUE=DATE:20240803
DTEND;VALUE=DATE:20240804
DTSTAMP:20260424T042214
CREATED:20240521T175510Z
LAST-MODIFIED:20240521T182317Z
UID:4075-1722643200-1722729599@salaamcwc.org
SUMMARY:3RD ANNUAL INTEGRATIVE HEALTH AND WELLNESS EXPO
DESCRIPTION:‘MARK YOUR CALENDAR FOR THE UPCOMING \n3RD ANNUAL INTEGRATIVE HEALTH AND WELLNESS EXPO \nSATURDAY AUGUST 3\, 2024 \nDETAILS TO COME
URL:https://salaamcwc.org/event/3rd-annual-integrative-health-and-wellness-expo/
CATEGORIES:Text Only
END:VEVENT
END:VCALENDAR